BEGIN:VCALENDAR
VERSION:2.0
PRODID:-//Badminton Neckargem&uuml;nd - ECPv6.15.20//NONSGML v1.0//EN
CALSCALE:GREGORIAN
METHOD:PUBLISH
X-WR-CALNAME:Badminton Neckargem&uuml;nd
X-ORIGINAL-URL:https://badminton-neckargemuend.de
X-WR-CALDESC:Veranstaltungen für Badminton Neckargem&uuml;nd
REFRESH-INTERVAL;VALUE=DURATION:PT1H
X-Robots-Tag:noindex
X-PUBLISHED-TTL:PT1H
BEGIN:VTIMEZONE
TZID:UTC
BEGIN:STANDARD
TZOFFSETFROM:+0000
TZOFFSETTO:+0000
TZNAME:UTC
DTSTART:20220101T000000
END:STANDARD
END:VTIMEZONE
BEGIN:VEVENT
DTSTART;TZID=UTC:20230924T090000
DTEND;TZID=UTC:20230924T220000
DTSTAMP:20260424T033600
CREATED:20230507T144426Z
LAST-MODIFIED:20230817T123033Z
UID:181-1695546000-1695592800@badminton-neckargemuend.de
SUMMARY:Bezirksmeisterschaft Nordbaden
DESCRIPTION:Ausschreibung \nAnmeldung
URL:https://badminton-neckargemuend.de/event/bezirksmeisterschaft-nordbaden/
LOCATION:Münzenbachhalle\, An der Münzenbach 1\, Neckargemünd\, 69151\, Deutschland
ORGANIZER;CN="TV Neckargem%C3%BCnd":MAILTO:info@badminton-neckargemuend.de
END:VEVENT
END:VCALENDAR